BEGIN:VCALENDAR
VERSION:2.0
PRODID:-//jEvents 2.0 for Joomla//EN
CALSCALE:GREGORIAN
METHOD:PUBLISH
BEGIN:VTIMEZONE
TZID:Europe/Berlin
BEGIN:STANDARD
DTSTART:20251026T020000
RDATE:20260329T030000
TZOFFSETFROM:+0200
TZOFFSETTO:+0100
TZNAME:Europe/Berlin CET
END:STANDARD
BEGIN:STANDARD
DTSTART:20261025T020000
RDATE:20270328T030000
TZOFFSETFROM:+0200
TZOFFSETTO:+0100
TZNAME:Europe/Berlin CET
END:STANDARD
BEGIN:DAYLIGHT
DTSTART:20250417T193000
RDATE:20251026T020000
TZOFFSETFROM:+0100
TZOFFSETTO:+0200
TZNAME:Europe/Berlin CEST
END:DAYLIGHT
BEGIN:DAYLIGHT
DTSTART:20260329T030000
RDATE:20261025T020000
TZOFFSETFROM:+0100
TZOFFSETTO:+0200
TZNAME:Europe/Berlin CEST
END:DAYLIGHT
END:VTIMEZONE
BEGIN:VEVENT
UID:33363f23f4bcca5182139d9ea8abe7d7
CATEGORIES:Okka von der Damerau
CREATED:20260419T205501
SUMMARY:Luxembourg - Mahler 2
LOCATION:Wien\, Wiener Konzerthaus - Großer Saal
DESCRIPTION:Gustav Mahler: Symphonie Nr. 2 c-moll (Auferstehung)
CONTACT:www.opl.lu
X-EXTRAINFO:Wien
DTSTAMP:20260420T000242Z
DTSTART;TZID=Europe/Berlin:20260418T193000
SEQUENCE:0
TRANSP:OPAQUE
END:VEVENT
END:VCALENDAR