BEGIN:VCALENDAR
VERSION:2.0
PRODID:-//jEvents 2.0 for Joomla//EN
CALSCALE:GREGORIAN
METHOD:PUBLISH
BEGIN:VTIMEZONE
TZID:Europe/Berlin
BEGIN:STANDARD
DTSTART:20251026T020000
RDATE:20260329T030000
TZOFFSETFROM:+0200
TZOFFSETTO:+0100
TZNAME:Europe/Berlin CET
END:STANDARD
BEGIN:STANDARD
DTSTART:20261025T020000
RDATE:20270328T030000
TZOFFSETFROM:+0200
TZOFFSETTO:+0100
TZNAME:Europe/Berlin CET
END:STANDARD
BEGIN:DAYLIGHT
DTSTART:20250429T190000
RDATE:20251026T020000
TZOFFSETFROM:+0100
TZOFFSETTO:+0200
TZNAME:Europe/Berlin CEST
END:DAYLIGHT
BEGIN:DAYLIGHT
DTSTART:20260329T030000
RDATE:20261025T020000
TZOFFSETFROM:+0100
TZOFFSETTO:+0200
TZNAME:Europe/Berlin CEST
END:DAYLIGHT
END:VTIMEZONE
BEGIN:VEVENT
UID:f407ffece8c73bafc54fabff48f0c858
CATEGORIES:Alexander Grassauer
CREATED:20260419T204602
SUMMARY:IMA
LOCATION:Historischer Reitstadel\, Neumarkt
DESCRIPTION:-: Arien
CONTACT:www.neumarkt.de/de/kultur/veranstaltungsraeume/reitstadel.html
X-EXTRAINFO:None
DTSTAMP:20260420T000048Z
DTSTART;TZID=Europe/Berlin:20260430T190000
SEQUENCE:0
TRANSP:OPAQUE
END:VEVENT
END:VCALENDAR