BEGIN:VCALENDAR
VERSION:2.0
PRODID:-//jEvents 2.0 for Joomla//EN
CALSCALE:GREGORIAN
METHOD:PUBLISH
BEGIN:VTIMEZONE
TZID:Europe/Berlin
BEGIN:STANDARD
DTSTART:20251026T020000
RDATE:20260329T030000
TZOFFSETFROM:+0200
TZOFFSETTO:+0100
TZNAME:Europe/Berlin CET
END:STANDARD
BEGIN:STANDARD
DTSTART:20261025T020000
RDATE:20270328T030000
TZOFFSETFROM:+0200
TZOFFSETTO:+0100
TZNAME:Europe/Berlin CET
END:STANDARD
BEGIN:DAYLIGHT
DTSTART:20250418T170000
RDATE:20251026T020000
TZOFFSETFROM:+0100
TZOFFSETTO:+0200
TZNAME:Europe/Berlin CEST
END:DAYLIGHT
BEGIN:DAYLIGHT
DTSTART:20260329T030000
RDATE:20261025T020000
TZOFFSETFROM:+0100
TZOFFSETTO:+0200
TZNAME:Europe/Berlin CEST
END:DAYLIGHT
END:VTIMEZONE
BEGIN:VEVENT
UID:b1b9244661023ac0a18ae10c769a78ed
CATEGORIES:Julia Fischer
CREATED:20260419T120902
SUMMARY:JFQ Tour
LOCATION:Zürich\, Grosse Tonhalle\, Tonhalle Zürich
DESCRIPTION:Johannes Brahms: Streichquartett Nr. 2, op. 51 a-moll\nDmitri Schostakowits
 ch: Streichquartett Nr. 3 F-Dur op. 73
X-ALT-DESC;FMTTYPE=text/html:Johannes Brahms: Streichquartett Nr. 2, op. 51 a-moll<br/>Dmitri Schostakow
 itsch: Streichquartett Nr. 3 F-Dur op. 73
CONTACT:www.tonhalle-orchester.ch
X-EXTRAINFO:Zürich
DTSTAMP:20260419T160055Z
DTSTART;TZID=Europe/Berlin:20260419T170000
SEQUENCE:0
TRANSP:OPAQUE
END:VEVENT
END:VCALENDAR